BEGIN:VCALENDAR
VERSION:2.0
PRODID:floktu.com
X-WR-TIMEZONE:Australia/Sydney
X-PUBLISHED-TTL:P1W
BEGIN:VEVENT
UID:FloktuEvent24373@floktu.com
DTSTART;TZID=Australia/Sydney:20200317T183000
SEQUENCE:0
TRANSP:OPAQUE
DTEND;TZID=Australia/Sydney:20200317T213000
LOCATION:Bowman Civic Centre\, Campbell Street\, Blacktown\, New South Wale
 s
SUMMARY:Western Sydney Region Annual Women's Dinner 2020
DESCRIPTION:Visit https://westernsydneyregionannualwomensdinner2020.floktu.
 com for more information.
DTSTAMP:20260425T050550Z
END:VEVENT
BEGIN:VTIMEZONE
TZID:Australia/Sydney
X-LIC-LOCATION:Australia/Sydney
END:VTIMEZONE
END:VCALENDAR