BEGIN:VCALENDAR
VERSION:2.0
PRODID:floktu.com
X-PUBLISHED-TTL:P1W
BEGIN:VEVENT
UID:FloktuEvent24373@floktu.com
DTSTART:20200317T073000Z
SEQUENCE:0
TRANSP:OPAQUE
DTEND:20200317T103000Z
LOCATION:Bowman Civic Centre\, Campbell Street\, Blacktown\, New South Wale
 s
SUMMARY:Western Sydney Region Annual Women's Dinner 2020
DESCRIPTION:Visit https://westernsydneyregionannualwomensdinner2020.floktu.
 com for more information.
DTSTAMP:20260425T033342Z
END:VEVENT
END:VCALENDAR